BEGIN:VCALENDAR
VERSION:2.0
PRODID:-//Fides Praktijk voor Mindfulness Nijmegen - ECPv6.15.20//NONSGML v1.0//EN
CALSCALE:GREGORIAN
METHOD:PUBLISH
X-WR-CALNAME:Fides Praktijk voor Mindfulness Nijmegen
X-ORIGINAL-URL:https://fides-praktijk.nl
X-WR-CALDESC:Evenementen voor Fides Praktijk voor Mindfulness Nijmegen
REFRESH-INTERVAL;VALUE=DURATION:PT1H
X-Robots-Tag:noindex
X-PUBLISHED-TTL:PT1H
BEGIN:VTIMEZONE
TZID:Europe/Amsterdam
BEGIN:DAYLIGHT
TZOFFSETFROM:+0100
TZOFFSETTO:+0200
TZNAME:CEST
DTSTART:20220327T010000
END:DAYLIGHT
BEGIN:STANDARD
TZOFFSETFROM:+0200
TZOFFSETTO:+0100
TZNAME:CET
DTSTART:20221030T010000
END:STANDARD
BEGIN:DAYLIGHT
TZOFFSETFROM:+0100
TZOFFSETTO:+0200
TZNAME:CEST
DTSTART:20230326T010000
END:DAYLIGHT
BEGIN:STANDARD
TZOFFSETFROM:+0200
TZOFFSETTO:+0100
TZNAME:CET
DTSTART:20231029T010000
END:STANDARD
BEGIN:DAYLIGHT
TZOFFSETFROM:+0100
TZOFFSETTO:+0200
TZNAME:CEST
DTSTART:20240331T010000
END:DAYLIGHT
BEGIN:STANDARD
TZOFFSETFROM:+0200
TZOFFSETTO:+0100
TZNAME:CET
DTSTART:20241027T010000
END:STANDARD
BEGIN:DAYLIGHT
TZOFFSETFROM:+0100
TZOFFSETTO:+0200
TZNAME:CEST
DTSTART:20250330T010000
END:DAYLIGHT
BEGIN:STANDARD
TZOFFSETFROM:+0200
TZOFFSETTO:+0100
TZNAME:CET
DTSTART:20251026T010000
END:STANDARD
BEGIN:DAYLIGHT
TZOFFSETFROM:+0100
TZOFFSETTO:+0200
TZNAME:CEST
DTSTART:20260329T010000
END:DAYLIGHT
BEGIN:STANDARD
TZOFFSETFROM:+0200
TZOFFSETTO:+0100
TZNAME:CET
DTSTART:20261025T010000
END:STANDARD
END:VTIMEZONE
BEGIN:VEVENT
DTSTART;TZID=Europe/Amsterdam:20251012T000000
DTEND;TZID=Europe/Amsterdam:20251028T000000
DTSTAMP:20260420T162654
CREATED:20241209T155906Z
LAST-MODIFIED:20250611T132639Z
UID:13862-1760227200-1761609600@fides-praktijk.nl
SUMMARY:India retraite 12 oktober - 28 oktober 2025
DESCRIPTION:Welkom bij onze 16 daagse Ayurvedische retreat \nEen aantal jaren geleden heb ik bij toeval kennisgemaakt met een ayurvedische retreat in India (cadeau van mijn kinderen) en sindsdien ‘gun’ ik mezelf dit en spaar ik hiervoor. Inmiddels heb ik 4 langere en 1 korte retreats gedaan. Het helpt me gezond\, zo gezond als mogelijk te blijven\, zowel mentaal als lichamelijk. Behalve mediteren en yoga wat helpend kan zijn voor een gezonde geest is een gezond lichaam ook van levensbelang. Het één kan eigenlijk niet zonder het ander.\nDe ayurvedische gezondheidszorg gaat er vanuit dat lichaam en geest voortdurend met elkaar in interactie zijn en elkaar wederzijds beïnvloeden. Met name klieren die hormonen produceren spelen in het lichaam een belangrijke rol als brug tussen het emotioneel-mentale enerzijds en het lichamelijke anderzijds. \nTijdens dit verblijf heb je de kans om dagelijks yoga en meditatie te beoefenen\, omringd door de backwaters van Kerala\, tropische vegetatie en de Arabische zee. Je maakt kennis met de ayurvedische gezondheidszorg door een fantastisch ervaren en zorgzaam team. Je leert over je eigen constitutie\, wat gezonde en heilzame voeding voor JOU is\, wat een goede leefstijl voor JOU is. \nOns verblijf ligt in een tropische omgeving aan zee waar je niets hoeft en je alleen met jezelf mag zijn en indien gewenst natuurlijk mooie contacten met anderen kunt maken. Het verblijf is bij een aangenaam jong gezin\, waar je een prima schone kamer met badkamer wacht + eigen veranda\, omringd door een grote tuin en grenzend aan de backwaters. \nVriendelijk\, gastvrij\, hartverwarmend\, ondersteunend\, gezond makend en energiek zijn woorden die bij deze retreat passen. Opgeladen en met veel tips voor jouw gezonde leefstijl kun je weer huiswaarts. \n\n“India is onder mijn huid gaan zitten. Ik ging direct uit de regelstand en was alleen maar in het nu”. – Eveline  \n\nZo ziet het India retraite 2025 eruit: \n\n14 dagen Ayurvedische behandelingen en massages (1\,5-2 uur) afgestemd op jou (panchakarma)\nDrie gezonde maaltijden per dag\, afgestemd op jouw ‘dieet’ .  Gratis koffie / thee en water.\nDagelijkse start met yoga\nUitgebreide intake bij de kliniek over gezondheid en leefstijl.\nDagelijks contact met de Ayurvedisch arts over het verloop van de behandeling.\nLaatste dag: uitgebreide les over Ayurveda\, met vervolgplan voor thuis en Ayurvedische kookles.\n16 nachten verblijf in een 1 pers. kamer met douche en toilet\, eigen veranda.\nDe kamers grenzen aan de tuin en aan de backwaters\, 100m van de oceaan.\nIncl. vliegticket Amsterdam – Cochin + luchthavenshuttle. Excl. vaccinaties GGD.\n\nPrijzen: \n\n3-weekse reis\, 1 persoonskamers: 2995\,-\n3-weekse reis\, 2 persoonskamer: 2595\,-\n2-weekse reis 1 persoonskamer: 2595\,-\n2 weekse reis 2 persoonskamer: 2295\,-\n\nIn januari 2026 vindt er ook een 3-weekse reis naar India plaats. Wil je alvast meer informatie hierover ontvangen? Neem dan contact met mij op.
URL:https://fides-praktijk.nl/retraite/india-retraite-2025-test/
CATEGORIES:retraite
ATTACH;FMTTYPE=image/jpeg:https://fides-praktijk.nl/wp-content/uploads/2024/12/Untitled-design-3.jpg
ORGANIZER;CN="Anja Buter%C3%B6we":MAILTO:info@fides-praktijk.nl
END:VEVENT
BEGIN:VEVENT
DTSTART;TZID=Europe/Amsterdam:20250919T000000
DTEND;TZID=Europe/Amsterdam:20251219T000000
DTSTAMP:20260420T162654
CREATED:20240404T141004Z
LAST-MODIFIED:20250611T093534Z
UID:13723-1758240000-1766102400@fides-praktijk.nl
SUMMARY:Compassie training
DESCRIPTION:
URL:https://fides-praktijk.nl/retraite/compassie-training/
LOCATION:Fides praktijk\, Meijhorst 60-02\, Nijmegen\, Gelderland\, 6537KT\, Nederland
CATEGORIES:trainingen
ORGANIZER;CN="Anja Buter%C3%B6we":MAILTO:info@fides-praktijk.nl
END:VEVENT
BEGIN:VEVENT
DTSTART;TZID=Europe/Amsterdam:20250825T000000
DTEND;TZID=Europe/Amsterdam:20251013T000000
DTSTAMP:20260420T162654
CREATED:20240404T140457Z
LAST-MODIFIED:20250611T093042Z
UID:13721-1756080000-1760313600@fides-praktijk.nl
SUMMARY:MBSR 8 weekse training
DESCRIPTION:Mindfulness Based Stress Reduction is een training voor iedereen die in meer of mindere mate stress ervaart. De training kan een begin zijn om zelf zorg te dragen voor je eigen welbevinden en je behoefte om je eigen welzijn te verbeteren.  Het kan je handvatten geven beter te leren omgaan met stress\, pijn en tegenslag. Kortom: met dat wat het leven in petto heeft. \nDe MBSR-cursus werd voor het eerst ontwikkeld door Jon Kabat-Zinn in 1979 aan de Medical School van de Universiteit van Massachusetts.\, het was een programma voor het bestrijden van pijn en stress. Hij is daarmee de grondlegger van het programma zoals we dit nu kennen. inmiddels is deze MBSR training een wetenschappelijk erkende nieuwe behandelmethode geworden bij o.a. het bestrijden van stress en chronische pijn.  De kracht van het programma is dat hierin inzichten uit de oosterse filosofie en de westerse wetenschap samenkomen en elkaar versterken. Sommige mensen komen om meer rust te ervaren\, anderen om  met stress te leren omgaan of om een leven met ziekte en pijn beter te kunnen hanteren. \nDegenen die deze gebruikersvriendelijke training hebben gevolgd\, geven aan zich meer betrokken te voelen bij hun werk en relaties\, met minder symptomen van stress en ook zeggen ze te ervaren dat ze meer grip op het leven lijken  te hebben.
URL:https://fides-praktijk.nl/retraite/fides_trainingen-mbsr-trainingen/
LOCATION:Fides praktijk\, Meijhorst 60-02\, Nijmegen\, Gelderland\, 6537KT\, Nederland
CATEGORIES:trainingen
ORGANIZER;CN="Anja Buter%C3%B6we":MAILTO:info@fides-praktijk.nl
END:VEVENT
BEGIN:VEVENT
DTSTART;VALUE=DATE:20250129
DTEND;VALUE=DATE:20250222
DTSTAMP:20260420T162654
CREATED:20230918T134531Z
LAST-MODIFIED:20241212T095249Z
UID:13605-1738108800-1740182399@fides-praktijk.nl
SUMMARY:India retreat 2025
DESCRIPTION:Welkom bij onze 21 daagse Ayurvedische retreat \n \n\nEen aantal jaren geleden heb ik bij toeval kennisgemaakt met een ayurvedische retreat in India (cadeau van mijn kinderen) en sindsdien ‘gun’ ik mezelf dit en spaar ik hiervoor. Inmiddels heb ik 4 langere en 1 korte retreats gedaan. Het helpt me gezond\, zo gezond als mogelijk te blijven\, zowel mentaal als lichamelijk. Behalve mediteren en yoga wat helpend kan zijn voor een gezonde geest is een gezond lichaam ook van levensbelang. Het één kan eigenlijk niet zonder het ander.\nDe ayurvedische gezondheidszorg gaat er vanuit dat lichaam en geest voortdurend met elkaar in interactie zijn en elkaar wederzijds beïnvloeden. Met name klieren die hormonen produceren spelen in het lichaam een belangrijke rol als brug tussen het emotioneel-mentale enerzijds en het lichamelijke anderzijds. \nTijdens dit verblijf heb je de kans om dagelijks yoga en meditatie te beoefenen\, omringd door de backwaters van Kerala\, tropische vegetatie en de Arabische zee. Je maakt kennis met de ayurvedische gezondheidszorg door een fantastisch ervaren en zorgzaam team. Je leert over je eigen constitutie\, wat gezonde en heilzame voeding voor JOU is\, wat een goede leefstijl voor JOU is. \nOns verblijf ligt in een tropische omgeving aan zee waar je niets hoeft en je alleen met jezelf mag zijn en indien gewenst natuurlijk mooie contacten met anderen kunt maken. Het verblijf is bij een aangenaam jong gezin\, waar je een prima schone kamer met badkamer wacht + eigen veranda\, omringd door een grote tuin en grenzend aan de backwaters. \nVriendelijk\, gastvrij\, hartverwarmend\, ondersteunend\, gezond makend en energiek zijn woorden die bij deze retreat passen. Opgeladen en met veel tips voor jouw gezonde leefstijl kun je weer huiswaarts. \n  \n\n“India is onder mijn huid gaan zitten. Ik ging direct uit de regelstand en was alleen maar in het nu”. – Eveline ging al 2 x met ons mee op 3-weekse reis.\n\n\nZo ziet het India retraite 2025 eruit:  \n\n19 dagen Ayurvedische behandelingen en massages (1\,5-2 uur) afgestemd op jou (panchakarma)\nDrie gezonde maaltijden per dag\, afgestemd op jouw ‘dieet’ .  Gratis koffie / thee en water.\nDagelijkse start met yoga\nUitgebreide intake bij de kliniek over gezondheid en leefstijl.\nDagelijks contact met de Ayurvedisch arts over het verloop van de behandeling.\nLaatste dag: uitgebreide les over Ayurveda\, met vervolgplan voor thuis en Ayurvedische kookles.\n21 nachten verblijf in een 1 pers. kamer met douche en toilet\, eigen veranda.\nDe kamers grenzen aan de tuin en aan de backwaters\, 100m van de oceaan.\nIncl. vliegticket Amsterdam – Cochin + luchthavenshuttle. Excl. vaccinaties GGD.\n\nPrijzen: \n\n3-weekse reis\, 1 persoonskamers: 2800 euro\n3-weekse reis\, 2 persoonskamer: 2550 euro\n2-weekse reis 1 persoonskamer: 2350 euro\n2 weekse reis 2 persoonskamer: 2150 euro\n\nFaciliteiten \n\nLuchthavenshuttle\nRookvrije kamers\nRoomservice\nBuitenzwembad\nGratis WiFi\n\nHeb je vragen over het retraite of wil je mee met ons? Neem gerust contact met me op.
URL:https://fides-praktijk.nl/retraite/india-retreat-2025/
LOCATION:Kochi en omstreken\, India
CATEGORIES:retraite
ATTACH;FMTTYPE=image/webp:https://fides-praktijk.nl/wp-content/uploads/LakeFront.webp
ORGANIZER;CN="Anja Buter%C3%B6we":MAILTO:info@fides-praktijk.nl
END:VEVENT
BEGIN:VEVENT
DTSTART;TZID=Europe/Amsterdam:20241101T190000
DTEND;TZID=Europe/Amsterdam:20241101T210000
DTSTAMP:20260420T162654
CREATED:20240404T133325Z
LAST-MODIFIED:20240926T115357Z
UID:13707-1730487600-1730494800@fides-praktijk.nl
SUMMARY:Mindful opvoeden
DESCRIPTION:
URL:https://fides-praktijk.nl/retraite/mindful-parenting/
LOCATION:Fides praktijk\, Meijhorst 60-02\, Nijmegen\, Gelderland\, 6537KT\, Nederland
CATEGORIES:trainingen
ORGANIZER;CN="Anja Buter%C3%B6we":MAILTO:info@fides-praktijk.nl
END:VEVENT
BEGIN:VEVENT
DTSTART;TZID=Europe/Amsterdam:20240823T093000
DTEND;TZID=Europe/Amsterdam:20240823T113000
DTSTAMP:20260420T162654
CREATED:20240711T183109Z
LAST-MODIFIED:20240822T102620Z
UID:13770-1724405400-1724412600@fides-praktijk.nl
SUMMARY:MBSR
DESCRIPTION:499
URL:https://fides-praktijk.nl/retraite/mbsr/
LOCATION:Fides praktijk\, Meijhorst 60-02\, Nijmegen\, Gelderland\, 6537KT\, Nederland
CATEGORIES:retraite
END:VEVENT
BEGIN:VEVENT
DTSTART;VALUE=DATE:20240525
DTEND;VALUE=DATE:20240526
DTSTAMP:20260420T162654
CREATED:20240502T160840Z
LAST-MODIFIED:20240502T161038Z
UID:13742-1716595200-1716681599@fides-praktijk.nl
SUMMARY:Weekendretraite
DESCRIPTION:‘Leven in V-formatie; met veerkracht\, vertrouwen\, verbinding en vreugde ‘ \nEen cadeau voor jezelf en voor de wereld.  \nHoe blijven we in onze kracht\, met een zacht en open hart\, nu het in de wereld zo onrustig is? En hoe kunnen we delen in vriendelijkheid en goedheid en elkaar steunen en nabij blijven? En de diepe vreugde hiervan voelen? \nWe kunnen veel leren van Ganzen…. Klinkt gek misschien\, maar daar is grote wijsheid te vinden. Benieuwd? We gaan het in de retraite ontdekken en waardevolle en ondersteunende kwaliteiten bij onszelf tot bloei laten komen. \nOm zo\, na de retraite\, met vertrouwen\, veerkracht en ook vreugde weer huiswaarts te keren en je ten diepste verbonden te voelen. \nWe bewegen …. en verstillen….. en ontdekken dat we: \n\nVan verkramping naar verzachting kunnen gaan en een open hart\nMinder hoeven regisseren en meer kunnen leven vanuit heldere intenties\nOnzekerheid tegemoet kunnen treden met moed en tederheid\nKunnen thuiskomen\, vertragen en her-bronnen\nVriendelijkheid en kalmte kunnen cultiveren\nKunnen gaan van reactiviteit naar responsiviteit\nHartwijsheid kunnen vinden in pijnlijke tijden\n\nIn de warme aanwezigheid van anderen kun je ervaren dat je samen kunt zijn zonder iets te moeten en dat je je ook in stilte liefdevol en compassievol met jezelf en anderen verbonden kunt voelen. \nWe oefenen met verschillende meditaties\, rustig en aandachtig bewegen en er is de mogelijkheid om te wandelen buiten in de natuur. Verder geven we je zo af en toe een vraag mee – niet om er meteen een antwoord op te moeten geven\, maar om gewoon eens in rust te onderzoeken voor jezelf. Wat roept het op? \nEr is ruimte – geen moeten! – om hier in het gezamenlijke programma over uit te wisselen met elkaar. Daarnaast is er ook de mogelijkheid voor een gesprek met één van de begeleiders\, als je dit wilt. \n Ga mee en ervaar wat ruimte en stilte voor je kunnen doen\, om zo na het weekend weer met hernieuwde energie\, vertrouwen en vreugde weer huiswaarts te keren.  \n Praktische info: \n\nAanvang: zaterdag 25 mei om 10.00 uur. Je kunt inchecken vanaf 8.00 uur\nEindtijd: maandag 27 mei\, 14.00 uur\, na de lunch\nPlaats: Conferentieoord de Poort in Groesbeek\, Biesseltsebaan 34\, 6561 KC Groesbeek\n\nKosten \n\nEen 1- persoons kamer met douche en toilet:  € 495\,-\, (incl. alle maaltijden en koffie en thee)\nEen 1-persoons kamer met douche en toilet op de gang € 425\,- (incl. alle maaltijden en koffie en thee)\n\n*Annulering: Bij annulering 4 weken of langer voor de datum van aanvang zal het overgemaakte bedrag minus € 50\,- teruggestort worden. Bij annulering tussen 4 en 2 weken voor aanvang wordt 50 % van het volledige bedrag ingehouden. Bij annulering binnen 2 weken voor aanvang is het volledige inschrijfbedrag verschuldigd. In uitzonderingsgevallen bestaat de mogelijkheid het inschrijfgeld geheel of gedeeltelijk te laten terugstorten\, ondanks dat minder dan 4 weken voor aanvang van de retraite\, is geannuleerd. Neem dan contact op met één van de twee trainers. Indien er sprake is van ziekte\, overlijden van een dierbare of ongelukken kan de deelnemer op een later tijdstip aan een retraite deelnemen. \n\nProgramma:  \nEr is een ochtend- middag -en avondprogramma. \nWil je graag meer weten over de hele invulling van het weekend neem dan contact op met één van de trainers. Of laat je verrassen! \n\nDefinitieve deelname en Betaling: \nZodra we je betaling ontvangen hebben\, reserveren we definitief een plek voor je en is je deelname gegarandeerd. \nWe hopen dat de bovenstaande informatie helder voor je is\, maar voel je welkom om bij onduidelijkheden of vragen contact op te nemen! \nMet hartelijke groet\, \nAnja en Leontine (trainers)
URL:https://fides-praktijk.nl/retraite/weekendretraite/
LOCATION:Conferentieoord de Poort\, Biesseltsebaan 34\, Groesbeek\, 6561 KC\, Nederland
CATEGORIES:retraite
ATTACH;FMTTYPE=image/jpeg:https://fides-praktijk.nl/wp-content/uploads/Conferentiecentrum-de-Poort-Groesbeek.jpg
ORGANIZER;CN="Anja Buter%C3%B6we":MAILTO:info@fides-praktijk.nl
END:VEVENT
BEGIN:VEVENT
DTSTART;TZID=Europe/Amsterdam:20240406T093000
DTEND;TZID=Europe/Amsterdam:20240406T113000
DTSTAMP:20260420T162654
CREATED:20240404T132826Z
LAST-MODIFIED:20240404T132826Z
UID:13703-1712395800-1712403000@fides-praktijk.nl
SUMMARY:MBSR training - aandacht voor ziek zijn
DESCRIPTION:nede
URL:https://fides-praktijk.nl/retraite/mbsr-training-aandacht-voor-ziek-zijn/
LOCATION:Fides praktijk\, Meijhorst 60-02\, Nijmegen\, Gelderland\, 6537KT\, Nederland
CATEGORIES:trainingen
ORGANIZER;CN="Anja Buter%C3%B6we":MAILTO:info@fides-praktijk.nl
END:VEVENT
BEGIN:VEVENT
DTSTART;TZID=Europe/Amsterdam:20230630T170000
DTEND;TZID=Europe/Amsterdam:20230702T140000
DTSTAMP:20260420T162654
CREATED:20230530T092522Z
LAST-MODIFIED:20230604T105715Z
UID:13548-1688144400-1688306400@fides-praktijk.nl
SUMMARY:Compassieweekend
DESCRIPTION:Dit weekend is voor mensen die het zichzelf en soms ook anderen te moeilijk maken. Voor mensen die zich laten leiden door kritische stemmen in zichzelf. Je ontdekt in dit weekend hoe je met mildheid en liefdevolle vriendelijkheid naar jezelf en ook naar anderen kunt kijken. Mildheid en compassie leert ons hoe heilzaam en gezondmakend het kan zijn om vriendelijk en aandachtig naar onszelf en anderen te zijn\, onvoorwaardelijk. Compassie leert ons met een vriendelijke houding om te gaan met pijn en lijden.\nOm vechten te stoppen en weerstand op te merken en te laten. \n• Wil je ook vriendelijker met jezelf omgaan?\n• Stressklachten verminderen?\n• Minder vaak een kort lontje ervaren\, je minder boos en geïrriteerd voelen?\n• Meer (zelf)compassie willen ontwikkelen?\n• Jezelf opladen en voeden op alle fronten? \nMeld je dan aan of stuur een mail aan info@fides-praktijk.nl of bel 0623527566\nook voor uitgebreide info!! Het programma voor het weekend kun je ook bij ons opvragen. \nPraktische info \nAanvang: vrijdag 30 juni 17.00 uur\, voor het diner.\nEindtijd: zondag 02 juli 14.00 uur na de lunch. \nKosten\nDeelnameprijs is € 425\,- Dit is inclusief overnachtingen in een 1 pers. kamer\, alle gezonde en voedzame maaltijden en onbeperkt koffie en thee. \nMocht de prijs een belemmering zijn neem dan contact met ons op. Er bestaat de mogelijkheid voor een gereduceerd tarief en ook betalen in termijnen is mogelijk.
URL:https://fides-praktijk.nl/retraite/compassieweekend/
LOCATION:Conferentieoord de Poort\, Biesseltsebaan 34\, Groesbeek\, 6561 KC\, Nederland
CATEGORIES:retraite
ORGANIZER;CN="Anja Buter%C3%B6we":MAILTO:info@fides-praktijk.nl
END:VEVENT
BEGIN:VEVENT
DTSTART;TZID=Europe/Amsterdam:20230324T160000
DTEND;TZID=Europe/Amsterdam:20230326T140000
DTSTAMP:20260420T162654
CREATED:20211010T125215Z
LAST-MODIFIED:20230122T124928Z
UID:13319-1679673600-1679839200@fides-praktijk.nl
SUMMARY:Weekend Retraite Groesbeek
DESCRIPTION:We hopen dat het goed met jullie gaat!Zoals sommigen wellicht weten organiseren we ook dit jaar 2023 weer een retraite bij De poort in Groesbeek. \nHet thema dit jaar zal zijn ‘leven in verbondenheid’ – verbondenheid met anderen\, maar ook en vooral met jezelf! \nHoe zorg je goed voor jezelf en blijf je trouw aan jezelf. Niet in strijd en verkrampt leven\, maar met compassie en afgestemd op wat je ervaart. In de warme aanwezigheid van anderen te ervaren dat je samen kunt zijn zonder iets te moeten en in stilte liefdevol en compassievol met jezelf en anderen kunt zijn.\nWe oefenen met verschillende meditaties\, rustig en aandachtig bewegen en er is mogelijkheid om te wandelen buiten in de natuur. Verder geven we je zo af en toe een vraag mee – niet om er meteen een antwoord op te moeten geven\, maar om gewoon eens in rust te onderzoeken voor jezelf. Wat roept het op? Er is ruimte – geen moeten! – om hier in het gezamenlijke programma over uit te wisselen met elkaar. Daarnaast is er ook de mogelijkheid voor een gesprek met één van de begeleiders\, als je dit wilt.\nGa mee en ervaar wat ruimte en stilte voor je kunnen doen ….om zo na het weekend weer opgeladen huiswaarts te keren. \nPraktische info:\n• Aanvang: vrijdag 24 maart om 16.00 uur (voor het diner) kun je inchecken. Je kunt al eerder aankomen\, als je wilt\, en je bagage veilig wegzetten en misschien een lekkere wandeling maken of gewoon zitten met een warm kopje thee. 😊\n• Eindtijd: zondag 26 maart 14.00 uur\, na de lunch.\n• Plaats: Conferentieoord de Poort in Groesbeek\, Biesseltsebaan 34\, 6561 KC Groesbeek.\n• Kosten: een kamer alleen met douche en toilet op de kamer € 425\,- (nog 5 beschikbaar) incl. alle maaltijden en koffie en thee.\n• Een kamer alleen met douche en toilet op de gang € 375\,- incl. alle maaltijden en koffie en thee. \n• Annulering: Bij annulering 4 weken of langer voor de datum van aanvang zal het overgemaakte bedrag minus € 50\,- teruggestort worden. Bij annulering tussen 4 en 2 weken voor aanvang wordt 50 % van het volledige bedrag ingehouden. Bij annulering binnen 2 weken voor aanvang is het volledige inschrijfbedrag verschuldigd. In uitzonderingsgevallen bestaat de mogelijkheid het inschrijfgeld geheel of gedeeltelijk te laten terugstorten\, ondanks dat minder dan 4 weken voor aanvang van de retraite\, is geannuleerd. Neem dan contact op met één van de twee trainers. Indien er sprake is van ziekte\, overlijden van een dierbare of ongelukken kan de deelnemer op een later tijdstip aan een retraite deelnemen. \n• Begeleiders: Anja Buteröwe  en Leontine Lenferink \n  \nProgramma:\nEr is een ochtend- middag -en avondprogramma.\nWil je graag meer weten over de hele invulling van het weekend neem dan contact op met één van de trainers. \nDefinitieve deelname en Betaling:\nZodra we je betaling ontvangen hebben\, reserveren we definitief een plek voor je en is je deelname gegarandeerd. \nWe hopen dat de bovenstaande informatie helder voor je is\, maar voel je welkom om bij onduidelijkheden of vragen contact op te nemen! \nMet hartelijke groet\, ook namens Leontine \nAnja Buteröwe \n  \n  \n 
URL:https://fides-praktijk.nl/retraite/weekend-stilte-retraite-groesbeek/
LOCATION:Conferentieoord de Poort\, Biesseltsebaan 34\, Groesbeek\, 6561 KC\, Nederland
CATEGORIES:retraite
ORGANIZER;CN="Anja Buter%C3%B6we":MAILTO:info@fides-praktijk.nl
END:VEVENT
BEGIN:VEVENT
DTSTART;VALUE=DATE:20231103
DTEND;VALUE=DATE:20231107
DTSTAMP:20260420T162654
CREATED:20230711T115916Z
LAST-MODIFIED:20230720T080819Z
UID:5612-1698969600-1699315199@fides-praktijk.nl
SUMMARY:Vrouwen rondom de overgang en mindfulness
DESCRIPTION:De overgang kan een heleboel op haar kop zetten en het contact met jezelf\, je partner en/of je kinderen behoorlijk verstoren. Fides Praktijk voor Mindfulness heeft samen met Nu n Nu Mindfulness een 5-daagse training ontwikkeld waarin mindfulness en de overgang centraal staan. \nGedurende deze 5 dagen doen we de reguliere MBSR mindfulness training\, oefenen we\, wisselen we uit en genieten we van de prachtig omgeving en nog veel meer.\nDeze dagen kun je zien als een investering in jezelf\, in je gezondheid en je welzijn. Daarnaast hopen we ook dat je plezier hebt en zelfs een vakantie gevoel! \nGun het jezelf om 5 dagen te vertoeven in de duinen van Terschelling. De accomodatie De Folkshaegeskoalle bevindt zich in het bos aan het strand. Vijf dagen ongestoord zelfzorg\, wandelen\, fietsen\, lezen\, samenzijn met vrouwen in de leeftijd tussen 40 en 65 jaar.\nBij mooi weer starten we de dag met yoga op het strand. Mediteren in de duinen.\nVijf dagen om tijd te nemen voor jezelf\, te genieten en stil te staan bij die fase in je leven die we overgang noemen.  \n \n× \nVROUWENfolder-mrt-2020 \n\nBekijk de Brochure\n2 persoonskamer€5951 persoonskamer€695\nDe prijs is incl. alle maaltijden\, koffie en thee\, training en overnachtingen. De reis is voor eigen rekening. Je kunt je aanmelden (of meer informatie vragen) met het Inschrijfformulier op onze website. \n\nInschrijven
URL:https://fides-praktijk.nl/retraite/vrouwen-rondom-de-overgang/
LOCATION:De Folkshegeskoalle\, Badweg Hoorn 11\, Hoorn Terschelling\, 8896 KC\, Nederland
CATEGORIES:events,retraite
ATTACH;FMTTYPE=image/jpeg:https://fides-praktijk.nl/wp-content/uploads/2018/11/terschelling-1491563-e1556523014716.jpg
ORGANIZER;CN="Anja Buter%C3%B6we":MAILTO:info@fides-praktijk.nl
END:VEVENT
END:VCALENDAR