BEGIN:VCALENDAR
VERSION:2.0
PRODID:-//Fides Praktijk voor Mindfulness Nijmegen - ECPv6.15.20//NONSGML v1.0//EN
CALSCALE:GREGORIAN
METHOD:PUBLISH
X-WR-CALNAME:Fides Praktijk voor Mindfulness Nijmegen
X-ORIGINAL-URL:https://fides-praktijk.nl
X-WR-CALDESC:Evenementen voor Fides Praktijk voor Mindfulness Nijmegen
REFRESH-INTERVAL;VALUE=DURATION:PT1H
X-Robots-Tag:noindex
X-PUBLISHED-TTL:PT1H
BEGIN:VTIMEZONE
TZID:Europe/Amsterdam
BEGIN:DAYLIGHT
TZOFFSETFROM:+0100
TZOFFSETTO:+0200
TZNAME:CEST
DTSTART:20250330T010000
END:DAYLIGHT
BEGIN:STANDARD
TZOFFSETFROM:+0200
TZOFFSETTO:+0100
TZNAME:CET
DTSTART:20251026T010000
END:STANDARD
BEGIN:DAYLIGHT
TZOFFSETFROM:+0100
TZOFFSETTO:+0200
TZNAME:CEST
DTSTART:20260329T010000
END:DAYLIGHT
BEGIN:STANDARD
TZOFFSETFROM:+0200
TZOFFSETTO:+0100
TZNAME:CET
DTSTART:20261025T010000
END:STANDARD
BEGIN:DAYLIGHT
TZOFFSETFROM:+0100
TZOFFSETTO:+0200
TZNAME:CEST
DTSTART:20270328T010000
END:DAYLIGHT
BEGIN:STANDARD
TZOFFSETFROM:+0200
TZOFFSETTO:+0100
TZNAME:CET
DTSTART:20271031T010000
END:STANDARD
END:VTIMEZONE
BEGIN:VEVENT
DTSTART;TZID=Europe/Amsterdam:20260313T093000
DTEND;TZID=Europe/Amsterdam:20260703T120000
DTSTAMP:20260420T144927
CREATED:20260313T082415Z
LAST-MODIFIED:20260313T082706Z
UID:14012-1773394200-1783080000@fides-praktijk.nl
SUMMARY:Compassie training - start 13 maart 2026
DESCRIPTION:Compassietraining\nVrijdagochtend 9.30 uur-12.00 uur\n\nSessie 1: 13 maart\nSessie 2: 20 maart\nSessie 3: 3 april\nSessie 4: 17 april\nSessie 5:8 mei\nSessie 6: 29 mei\nSessie 7: 19 juni\nSessie 8: 3 juli.
URL:https://fides-praktijk.nl/retraite/compassie-training-start-13-maart-2026/
CATEGORIES:events
END:VEVENT
END:VCALENDAR