BEGIN:VCALENDAR
VERSION:2.0
PRODID:-//Fides Praktijk voor Mindfulness Nijmegen - ECPv6.15.20//NONSGML v1.0//EN
CALSCALE:GREGORIAN
METHOD:PUBLISH
X-ORIGINAL-URL:https://fides-praktijk.nl
X-WR-CALDESC:Evenementen voor Fides Praktijk voor Mindfulness Nijmegen
REFRESH-INTERVAL;VALUE=DURATION:PT1H
X-Robots-Tag:noindex
X-PUBLISHED-TTL:PT1H
BEGIN:VTIMEZONE
TZID:Europe/Amsterdam
BEGIN:DAYLIGHT
TZOFFSETFROM:+0100
TZOFFSETTO:+0200
TZNAME:CEST
DTSTART:20220327T010000
END:DAYLIGHT
BEGIN:STANDARD
TZOFFSETFROM:+0200
TZOFFSETTO:+0100
TZNAME:CET
DTSTART:20221030T010000
END:STANDARD
BEGIN:DAYLIGHT
TZOFFSETFROM:+0100
TZOFFSETTO:+0200
TZNAME:CEST
DTSTART:20230326T010000
END:DAYLIGHT
BEGIN:STANDARD
TZOFFSETFROM:+0200
TZOFFSETTO:+0100
TZNAME:CET
DTSTART:20231029T010000
END:STANDARD
BEGIN:DAYLIGHT
TZOFFSETFROM:+0100
TZOFFSETTO:+0200
TZNAME:CEST
DTSTART:20240331T010000
END:DAYLIGHT
BEGIN:STANDARD
TZOFFSETFROM:+0200
TZOFFSETTO:+0100
TZNAME:CET
DTSTART:20241027T010000
END:STANDARD
END:VTIMEZONE
BEGIN:VEVENT
DTSTART;VALUE=DATE:20231103
DTEND;VALUE=DATE:20231107
DTSTAMP:20260420T174649
CREATED:20230711T115916Z
LAST-MODIFIED:20230720T080819Z
UID:5612-1698969600-1699315199@fides-praktijk.nl
SUMMARY:Vrouwen rondom de overgang en mindfulness
DESCRIPTION:De overgang kan een heleboel op haar kop zetten en het contact met jezelf\, je partner en/of je kinderen behoorlijk verstoren. Fides Praktijk voor Mindfulness heeft samen met Nu n Nu Mindfulness een 5-daagse training ontwikkeld waarin mindfulness en de overgang centraal staan. \nGedurende deze 5 dagen doen we de reguliere MBSR mindfulness training\, oefenen we\, wisselen we uit en genieten we van de prachtig omgeving en nog veel meer.\nDeze dagen kun je zien als een investering in jezelf\, in je gezondheid en je welzijn. Daarnaast hopen we ook dat je plezier hebt en zelfs een vakantie gevoel! \nGun het jezelf om 5 dagen te vertoeven in de duinen van Terschelling. De accomodatie De Folkshaegeskoalle bevindt zich in het bos aan het strand. Vijf dagen ongestoord zelfzorg\, wandelen\, fietsen\, lezen\, samenzijn met vrouwen in de leeftijd tussen 40 en 65 jaar.\nBij mooi weer starten we de dag met yoga op het strand. Mediteren in de duinen.\nVijf dagen om tijd te nemen voor jezelf\, te genieten en stil te staan bij die fase in je leven die we overgang noemen.  \n \n× \nVROUWENfolder-mrt-2020 \n\nBekijk de Brochure\n2 persoonskamer€5951 persoonskamer€695\nDe prijs is incl. alle maaltijden\, koffie en thee\, training en overnachtingen. De reis is voor eigen rekening. Je kunt je aanmelden (of meer informatie vragen) met het Inschrijfformulier op onze website. \n\nInschrijven
URL:https://fides-praktijk.nl/retraite/vrouwen-rondom-de-overgang/
LOCATION:De Folkshegeskoalle\, Badweg Hoorn 11\, Hoorn Terschelling\, 8896 KC\, Nederland
CATEGORIES:events,retraite
ATTACH;FMTTYPE=image/jpeg:https://fides-praktijk.nl/wp-content/uploads/2018/11/terschelling-1491563-e1556523014716.jpg
ORGANIZER;CN="Anja Buter%C3%B6we":MAILTO:info@fides-praktijk.nl
END:VEVENT
END:VCALENDAR